{"text_format":"1","workbook":"xlsx","n_sheets":7,"sheets":["Cost Comparison","Calculation","Rates","PCIA  FF","CARE","Rebundled Rates","Changelog"],"not_rendered":{"charts":0,"images":1,"macros":1,"external_links":0,"defined_names":1,"comments":1,"pivot_tables":0},"unopened":[],"bounds":{"document_bytes":16777216,"sheet_cells":100000,"rows_first":2000,"rows_last":500,"rows_between":2000,"halvings":0,"cell_chars":16384,"cell_head_chars":4096},"cells_cut":0,"cells_raw":0,"read":"whole","date_system":"1900"}

{"sheet":"Cost Comparison","index":0,"n_rows":64,"n_cols":20,"rows_kept":64,"cut":false,"hidden":false,"merged":[[34,13,36,19],[45,1,46,15]]}
[]
[null,"SVCE Business Cost Comparison Calculator",null,null,null,null,null,null,null,null,null,null,null,null,null,null,null,null,null,"Effective 4/1/2018"]
[]
[null,"Required Information",null,null,null,null,null,null,null,null,null,null,null,"Optional Information"]
[null,"Your Rate"]
[null,"A1 (COM-1)"]
[]
[null,"Your Usage"]
[null,null,null,null,null,null,null,"SUMMER",null,null,null,"WINTER"]
[null,{"$f":"IF(VLOOKUP(B6,Rates!A:AA,2,0)=FALSE,\"\",\"One Month of Usage:\")","v":""},null,null,null,"Summer Billing Period (days):",null,null,null," Winter Billing Period (days):"]
[null,null,null,null,null,{"$f":"IF(VLOOKUP($B$6,Rates!A:AA,3,0)=FALSE,\" \",\"Summer Month Usage:\")","v":"Summer Month Usage:"},null,null,null,{"$f":"IF(VLOOKUP($B$6,Rates!A:AA,4,0)=FALSE,\" \",\"Winter Month Usage:\")","v":"Winter Month Usage:"},null,null,null,null,null,"PCIA Vintage:",null,2017]
[null,null,null,null,null,{"$f":"IF(VLOOKUP($B$6,Rates!A:AA,11,0)=FALSE,\" \",\"Max Peak (kW):\")","v":" "},null,null,null,{"$f":"IF(VLOOKUP($B$6,Rates!A:AA,14,0)=FALSE,\" \",\"Max Peak (kW):\")","v":" "},null,null,null,null,null,"Franchise Fee Exemption:",null,"No"]
[null,null,null,null,null,{"$f":"IF(VLOOKUP($B$6,Rates!A:AA,12,0)=FALSE,\" \",\"Max Part Peak (kW):\")","v":" "},null,null,null,{"$f":"IF(VLOOKUP($B$6,Rates!A:AA,15,0)=FALSE,\" \",\"Part Peak (kW):\")","v":" "},null,null,null,null,null,"Phase:",null,"Single-phase"]
[null,null,null,null,null,{"$f":"IF(VLOOKUP($B$6,Rates!A:AA,13,0)=FALSE,\" \",\"Max Demand (kW):\")","v":" "},null,null,null,{"$f":"IF(VLOOKUP($B$6,Rates!A:AA,16,0)=FALSE,\" \",\"Max Demand (kW):\")","v":" "},null,null,null,null,null,"CARE Discount:",null,"No"]
[null,null,null,null,null,{"$f":"IF(VLOOKUP($B$6,Rates!A:AA,5,0)=FALSE,\" \",\"Peak (kWh):\")","v":" "},null,null,null,{"$f":"IF(VLOOKUP($B$6,Rates!A:AA,8,0)=FALSE,\" \",\"Peak (kWh):\")","v":" "}]
[null,null,null,null,null,{"$f":"IF(VLOOKUP($B$6,Rates!A:AA,6,0)=FALSE,\" \",\"Part Peak (kWh):\")","v":" "},null,null,null,{"$f":"IF(VLOOKUP($B$6,Rates!A:AA,9,0)=FALSE,\" \",\"Part Peak (kWh):\")","v":" "},null,null,null,null,null,"(E19 Only) Voluntary or Mandatory Service:",null,"Voluntary"]
[null,null,null,null,null,{"$f":"IF(VLOOKUP($B$6,Rates!A:AA,7,0)=FALSE,\" \",\"Off Peak (kWh):\")","v":" "},null,null,null,{"$f":"IF(VLOOKUP($B$6,Rates!A:AA,10,0)=FALSE,\" \",\"Off Peak (kWh):\")","v":" "}]
[null,null,null,null,null,{"$f":"IF(VLOOKUP($B$6,Rates!A:AA,17,0)=FALSE,\" \",\"Summer Connected Load:\")","v":" "},null,null,null,{"$f":"IF(VLOOKUP($B$6,Rates!A:AA,18,0)=FALSE,\" \",\"Winter Connected Load:\")","v":" "}]
[]
[null,"Total Cost Summary",null,null,null,null,null,null,null,"Compare Options (select two from the orange menus below)"]
[null,"Service Options",null,null,null,"Total Charges",null,null,null,null,null,"SVCE GreenStart (50%)",null,"PG&E Standard",null,"Difference"]
[null,"SVCE GreenStart (50%)",null,null,null,{"$f":"SUM(F32:L32)","v":0},null,null,null,"Total Cost",null,{"$f":"VLOOKUP(L21,$B$21:$F$26,5,FALSE)","v":0},null,{"$f":"VLOOKUP(N21,$B$21:$F$26,5,FALSE)","v":0},null,{"$f":"ABS(L22-N22)","v":0}]
[null,"PG&E Standard",null,null,null,{"$f":"SUM(F33:L33)","v":0},null,null,null,"Renewable %",null,{"$f":"VLOOKUP(L21,$B$40:$J$45,5,FALSE)","v":0.5},null,{"$f":"VLOOKUP(N21,$B$40:$J$45,5,FALSE)","v":0.33},null,{"$f":"ABS(L23-N23)","v":0.16999999999999998}]
[null,"SVCE GreenPrime (100%)",null,null,null,{"$f":"SUM(F34:L34)","v":0},null,null,null,{"$f":"IF(J$39=\"lbs. (pounds)\",\"Estimated Emissions (lbs.)\",\"Estimated Emissions (MT)\")","v":"Estimated Emissions (lbs.)"},null,{"$f":"VLOOKUP(L21,$B$40:$J$45,9,FALSE)","v":0},null,{"$f":"VLOOKUP(N21,$B$40:$J$45,9,FALSE)","v":0},null,{"$f":"ABS(L24-N24)","v":0}]
[null,"PG&E Solar Choice (50%)",null,null,null,{"$f":"SUM(F35:L35)","v":0}]
[null,"PG&E Solar Choice (100%)",null,null,null,{"$f":"SUM(F36:L36)","v":0}]
[null,null,null,null,null,null,null,null,null,{"$f":"IF(Calculation!B31<>0,\"CARE Program Adjustment:\",\"\")","v":""},null,{"$f":"IF(R14=\"Yes\",SUM(CARE!D3:D7),\"\")","v":""}]
[null,null,null,null,null,null,null,null,null,{"$f":"IF(B6=Rates!A52,\"Comparisons of streetlight rates (LS-1, LS-2, LS-3) are for electricity only, and do not include lamp fees imposed by PG&E.\",\"\")","v":""}]
[null,"Additional Billing Details"]
[null,"Breakdown of Charges by Service"]
[null,"Service Options",null,null,null,"PG&E Delivery Cost",null,"Generation Cost",null,"PCIA (PG&E Fee)",null,"Franchise Fee"]
[null,"SVCE GreenStart (50%)",null,null,null,{"$f":"F33","v":0},null,{"$f":"Calculation!B37","v":0},null,{"$f":"Calculation!B38","v":0},null,{"$f":"Calculation!B39","v":0}]
[null,"PG&E Standard",null,null,null,{"$f":"Calculation!B34","v":0},null,{"$f":"Calculation!B33","v":0},null,0,null,0]
[null,"SVCE GreenPrime (100%)",null,null,null,{"$f":"F33","v":0},null,{"$f":"H32+Calculation!B43","v":0},null,{"$f":"J32","v":0},null,{"$f":"L32","v":0}]
[null,"PG&E Solar Choice (50%)",null,null,null,{"$f":"F33","v":0},null,{"$f":"H33+Calculation!B42/2","v":0},null,{"$f":"J36/2","v":0},null,0]
[null,"PG&E Solar Choice (100%)",null,null,null,{"$f":"F33","v":0},null,{"$f":"H33+Calculation!B42","v":0},null,{"$f":"IF(L26=\"Pre-2009\",0,Calculation!B41)","v":0},null,0]
[]
[]
[null,"Breakdown of Energy Content",null,null,null,null,null,"Show emissions using (select):",null,"lbs. (pounds)"]
[null,"Service Options",null,null,null,"Renewable Content\n(% of Total Power Supply)",null,"Emissions Factor \n(lbs. CO2/MWh)*",null,"Estimated Emissions\n(lbs. CO2)",null,"Service Description"]
[null,"SVCE GreenStart (50%)",null,null,null,0.5,null,"<25",null,{"$f":"IF(J$39=\"lbs. (pounds)\",25*Calculation!E$3/1000,25*Calculation!E$3/1000/2204.6)","v":0},null,"Basic SVCE service (default)"]
[null,"PG&E Standard",null,null,null,0.33,null,294,null,{"$f":"IF(J$39=\"lbs. (pounds)\",H42*Calculation!E$3/1000,H42*Calculation!E$3/1000/2204.6)","v":0},null,"Basic PG&E service (opt out)"]
[null,"SVCE GreenPrime (100%)",null,null,null,1,null,0,null,{"$f":"IF(J$39=\"lbs. (pounds)\",H43*Calculation!E$3/1000,H43*Calculation!E$3/1000/2204.6)","v":0},null,"Optional 100% renewable SVCE service"]
[null,"PG&E Solar Choice (50%)",null,null,null,0.65,null,{"$f":"(1-F44)*H42","v":102.89999999999999},null,{"$f":"IF(J$39=\"lbs. (pounds)\",H44*Calculation!E$3/1000,H44*Calculation!E$3/1000/2204.6)","v":0},null,"Optional 50% solar PG&E service"]
[null,"PG&E Solar Choice (100%)",null,null,null,1,null,0,null,{"$f":"IF(J$39=\"lbs. (pounds)\",H45*Calculation!E$3/1000,H45*Calculation!E$3/1000/2204.6)","v":0},null,"Optional 100% solar PG&E service"]
[null,"* As reported to the California Energy Commission’s Power Source Disclosure Program, reflecting PG&E's most currently available emission factor (for CY 2016), as verified by The Climate Registry.  Silicon Valley Clean Energy’s generation data is forecast for 2017 and may be subject to change. Actual generation data will be reported to the California Energy Commission in 2018."]
[]
[]
[null,"Glossary of Terms"]
[]
[null,"Required Account Data Terms"]
[null,"Your Rate:",null,null,null,"The PG&E rate selected for billing your account. Different rates utilize different usage data to determine your charges due. Selecting a rate will highlight required usage."]
[null,"Non Time-of-Use Usage Data:",null,null,null,"Basic and older electric rates may charge you based on total usage, regardless of what time of day it is used. This usage may still be divided seasonally as defined by PG&E."]
[null,"Time-of-Use Usage Data:",null,null,null,"Usage data which is specific to certain times of the day. This is divided into peak, partial peak, and off peak periods and is also divided seasonally."]
[null,"Demand-Based Usage Data:",null,null,null,"Large business customers are also assessed demand charges, which are based on their maximum use of electricity during certain points of a billing cycle."]
[]
[null,"Optional Account Data Terms"]
[null,"Billing Period Length:",null,null,null,"Certain PG&E delivery charges are affected by the length of your billing period. If the data reviewed is for a longer or shorter period than indicated, it can be adjusted."]
[null,"PCIA Vintage:",null,null,null,"PG&E assesses fees to customers which choose a provider other than PG&E. This fee is based on when your address began taking SVCE service and your rate class."]
[null,"Franchise Fee Exemption:",null,null,null,"Customers which are a subdivision of the State of California (such as state facilities, city facilities, school districts) are exempt from the Franchise Fee Surcharge."]
[null,"Phase:",null,null,null,"Some small business customers may be either single-phase or poly-phase, impacting monthly PG&E meter charges."]
[null,"CARE Discount:",null,null,null,"CARE is a low-income discount available to qualifying residential households; certain businesses may (rarely) also qualify. Available to PG&E and SVCE customers equally."]
[null,"Medical Baseline Exemption:",null,null,null,"Customers with needed medical equipment may receive an adjustment to their tiered delivery rates. Available to PG&E and SVCE customers equally."]
[null,"E19 Voluntary/Mandatory:",null,null,null,"Customers may participate in the E19 on a voluntary or required basis due to their high usage. Voluntary assignment is denoted by the letter \"V\" (e.g. E19SV)"]

{"sheet":"Calculation","index":1,"n_rows":44,"n_cols":8,"rows_kept":44,"cut":false,"hidden":true,"merged":[]}
["Normalized PCIA",{"$f":"'Cost Comparison'!R11","v":2017},null,null,null,null,"PCIA Charge",{"$f":"IFERROR(B2*E3,0)","v":0}]
["PCIA Rate",{"$f":"VLOOKUP(E2,'PCIA  FF'!A2:U12,MATCH(B1,'PCIA  FF'!1:1,0),FALSE)","v":2.4660000000000001E-2},null,"PCIA Class",{"$f":"VLOOKUP('Cost Comparison'!B6,Rates!$A$70:$S$98,19,0)","v":"A1"}]
["FF Rate",{"$f":"IF('Cost Comparison'!$R$12=\"No\",VLOOKUP(E2,'PCIA  FF'!A14:U24,MATCH(B1,'PCIA  FF'!14:14,0),FALSE),0)","v":6.2E-4},null,"Usage Eligible",{"$f":"SUMIF(C7:C15,\"<>FALSE\",B7:B15)","v":0},null,"FF Charge",{"$f":"E3*B3","v":0}]
[]
["Bundled Rate Components"]
[null,"kWh/KW","Bundled Rate","Bundled Charge","PG&E Gen Rate","PG&E Gen Charge","SVCEA Gen Rate","SVCEA Gen Charge"]
["Non-sea/non-tou",{"$f":"'Cost Comparison'!D10","v":0},{"$f":"VLOOKUP('Cost Comparison'!$B$6,Rates!$A$2:$W$31,2,0)","v":false},{"$f":"B7*C7","v":0},{"$f":"VLOOKUP('Cost Comparison'!$B$6,Rates!$A$36:$W$67,2,0)","v":false},{"$f":"B7*E7","v":0},{"$f":"VLOOKUP('Cost Comparison'!$B$6,Rates!$A$69:$W$100,2,0)","v":false},{"$f":"G7*B7","v":0}]
["Summer seasonal",{"$f":"'Cost Comparison'!H11","v":0},{"$f":"VLOOKUP('Cost Comparison'!$B$6,Rates!$A$2:$W$31,3,0)","v":0.25385999999999997},0,{"$f":"VLOOKUP('Cost Comparison'!$B$6,Rates!$A$36:$W$67,3,0)","v":0.12570000000000001},0,{"$f":"VLOOKUP('Cost Comparison'!$B$6,Rates!$A$69:$W$100,3,0)","v":9.2880000000000004E-2},0]
["Winter Seasonal",{"$f":"'Cost Comparison'!L11","v":0},{"$f":"VLOOKUP('Cost Comparison'!$B$6,Rates!$A$2:$W$31,4,0)","v":0.19670000000000001},0,{"$f":"VLOOKUP('Cost Comparison'!$B$6,Rates!$A$36:$W$67,4,0)","v":8.6480000000000001E-2},0,{"$f":"VLOOKUP('Cost Comparison'!$B$6,Rates!$A$69:$W$100,4,0)","v":5.6009999999999997E-2},0]
["Summer Peak",{"$f":"'Cost Comparison'!H15","v":0},{"$f":"VLOOKUP('Cost Comparison'!$B$6,Rates!$A$2:$W$31,5,0)","v":false},0,{"$f":"VLOOKUP('Cost Comparison'!$B$6,Rates!$A$36:$W$67,5,0)","v":false},0,{"$f":"VLOOKUP('Cost Comparison'!$B$6,Rates!$A$69:$W$100,5,0)","v":false},0]
["Summer Part",{"$f":"'Cost Comparison'!H16","v":0},{"$f":"VLOOKUP('Cost Comparison'!$B$6,Rates!$A$2:$W$31,6,0)","v":false},0,{"$f":"VLOOKUP('Cost Comparison'!$B$6,Rates!$A$36:$W$67,6,0)","v":false},0,{"$f":"VLOOKUP('Cost Comparison'!$B$6,Rates!$A$69:$W$100,6,0)","v":false},0]
["Summer Off",{"$f":"'Cost Comparison'!H17","v":0},{"$f":"VLOOKUP('Cost Comparison'!$B$6,Rates!$A$2:$W$31,7,0)","v":false},0,{"$f":"VLOOKUP('Cost Comparison'!$B$6,Rates!$A$36:$W$67,7,0)","v":false},0,{"$f":"VLOOKUP('Cost Comparison'!$B$6,Rates!$A$69:$W$100,7,0)","v":false},0]
["Winter Peak",{"$f":"'Cost Comparison'!L15","v":0},{"$f":"VLOOKUP('Cost Comparison'!$B$6,Rates!$A$2:$W$31,8,0)","v":false},0,{"$f":"VLOOKUP('Cost Comparison'!$B$6,Rates!$A$36:$W$67,8,0)","v":false},0,{"$f":"VLOOKUP('Cost Comparison'!$B$6,Rates!$A$69:$W$100,8,0)","v":false},0]
["Winter Part",{"$f":"'Cost Comparison'!L16","v":0},{"$f":"VLOOKUP('Cost Comparison'!$B$6,Rates!$A$2:$W$31,9,0)","v":false},0,{"$f":"VLOOKUP('Cost Comparison'!$B$6,Rates!$A$36:$W$67,9,0)","v":false},0,{"$f":"VLOOKUP('Cost Comparison'!$B$6,Rates!$A$69:$W$100,9,0)","v":false},0]
["Winter Off",{"$f":"'Cost Comparison'!L17","v":0},{"$f":"VLOOKUP('Cost Comparison'!$B$6,Rates!$A$2:$W$31,10,0)","v":false},0,{"$f":"VLOOKUP('Cost Comparison'!$B$6,Rates!$A$36:$W$67,10,0)","v":false},0,{"$f":"VLOOKUP('Cost Comparison'!$B$6,Rates!$A$69:$W$100,10,0)","v":false},0]
["Demand Summer Peak",{"$f":"'Cost Comparison'!H12","v":0},{"$f":"VLOOKUP('Cost Comparison'!$B$6,Rates!$A$2:$W$31,11,0)","v":false},{"$f":"IF(B16=0,0,B16*C16*'Cost Comparison'!$H$10/SUM('Cost Comparison'!H10+'Cost Comparison'!L10))","v":0},{"$f":"VLOOKUP('Cost Comparison'!$B$6,Rates!$A$36:$W$67,11,0)","v":false},{"$f":"IF(E16=FALSE,0,B16*E16*'Cost Comparison'!$H$10/SUM('Cost Comparison'!$H$10+'Cost Comparison'!$L$10))","v":0},{"$f":"VLOOKUP('Cost Comparison'!$B$6,Rates!$A$69:$W$100,11,0)","v":false},{"$f":"IF(G16=FALSE,0,B16*G16*'Cost Comparison'!$H$10/SUM('Cost Comparison'!$H$10+'Cost Comparison'!$L$10))","v":0}]
["Demand Summer Part",{"$f":"'Cost Comparison'!H13","v":0},{"$f":"VLOOKUP('Cost Comparison'!$B$6,Rates!$A$2:$W$31,12,0)","v":false},{"$f":"IF(B17=0,0,B17*C17*'Cost Comparison'!H10/SUM('Cost Comparison'!H10+'Cost Comparison'!L10))","v":0},{"$f":"VLOOKUP('Cost Comparison'!$B$6,Rates!$A$36:$W$67,12,0)","v":false},{"$f":"IF(E17=FALSE,0,B17*E17*'Cost Comparison'!$H$10/SUM('Cost Comparison'!$H$10+'Cost Comparison'!$L$10))","v":0},{"$f":"VLOOKUP('Cost Comparison'!$B$6,Rates!$A$69:$W$100,12,0)","v":false},{"$f":"IF(G17=FALSE,0,B17*G17*'Cost Comparison'!$H$10/SUM('Cost Comparison'!$H$10+'Cost Comparison'!$L$10))","v":0}]
["Demand Summer Max",{"$f":"'Cost Comparison'!H14","v":0},{"$f":"VLOOKUP('Cost Comparison'!$B$6,Rates!$A$2:$W$31,13,0)","v":false},{"$f":"IF(B18=0,0,B18*C18*'Cost Comparison'!H10/SUM('Cost Comparison'!H10+'Cost Comparison'!L10))","v":0},{"$f":"VLOOKUP('Cost Comparison'!$B$6,Rates!$A$36:$W$67,13,0)","v":false},{"$f":"IF(E18=FALSE,0,B18*E18*'Cost Comparison'!$H$10/SUM('Cost Comparison'!$H$10+'Cost Comparison'!$L$10))","v":0},{"$f":"VLOOKUP('Cost Comparison'!$B$6,Rates!$A$69:$W$100,13,0)","v":false},{"$f":"IF(G18=FALSE,0,B18*G18*'Cost Comparison'!$H$10/SUM('Cost Comparison'!$H$10+'Cost Comparison'!$L$10))","v":0}]
["Demand Winter Peak",{"$f":"'Cost Comparison'!L12","v":0},{"$f":"VLOOKUP('Cost Comparison'!$B$6,Rates!$A$2:$W$31,14,0)","v":false},{"$f":"IF(B19=0,0,B19*C19*'Cost Comparison'!L10/SUM('Cost Comparison'!L10+'Cost Comparison'!H10))","v":0},{"$f":"VLOOKUP('Cost Comparison'!$B$6,Rates!$A$36:$W$67,14,0)","v":false},{"$f":"IF(E19=FALSE,0,B19*E19*'Cost Comparison'!$L$10/SUM('Cost Comparison'!$H$10+'Cost Comparison'!$L$10))","v":0},{"$f":"VLOOKUP('Cost Comparison'!$B$6,Rates!$A$69:$W$100,14,0)","v":false},{"$f":"IF(G19=FALSE,0,B19*G19*'Cost Comparison'!$L$10/SUM('Cost Comparison'!$H$10+'Cost Comparison'!$L$10))","v":0}]
["Demand Winter Part",{"$f":"'Cost Comparison'!L13","v":0},{"$f":"VLOOKUP('Cost Comparison'!$B$6,Rates!$A$2:$W$31,15,0)","v":false},{"$f":"IF(B20=0,0,B20*C20*'Cost Comparison'!L10/SUM('Cost Comparison'!L10+'Cost Comparison'!H10))","v":0},{"$f":"VLOOKUP('Cost Comparison'!$B$6,Rates!$A$36:$W$67,15,0)","v":false},{"$f":"IF(E20=FALSE,0,B20*E20*'Cost Comparison'!$L$10/SUM('Cost Comparison'!$H$10+'Cost Comparison'!$L$10))","v":0},{"$f":"VLOOKUP('Cost Comparison'!$B$6,Rates!$A$69:$W$100,15,0)","v":false},{"$f":"IF(G20=FALSE,0,B20*G20*'Cost Comparison'!$L$10/SUM('Cost Comparison'!$H$10+'Cost Comparison'!$L$10))","v":0}]
["Demand Winter Max",{"$f":"'Cost Comparison'!L14","v":0},{"$f":"VLOOKUP('Cost Comparison'!$B$6,Rates!$A$2:$W$31,16,0)","v":false},{"$f":"IF(B21=0,0,B21*C21*'Cost Comparison'!L10/SUM('Cost Comparison'!L10+'Cost Comparison'!H10))","v":0},{"$f":"VLOOKUP('Cost Comparison'!$B$6,Rates!$A$36:$W$67,16,0)","v":false},{"$f":"IF(E21=FALSE,0,B21*E21*'Cost Comparison'!$L$10/SUM('Cost Comparison'!$H$10+'Cost Comparison'!$L$10))","v":0},{"$f":"VLOOKUP('Cost Comparison'!$B$6,Rates!$A$69:$W$100,16,0)","v":false},{"$f":"IF(G21=FALSE,0,B21*G21*'Cost Comparison'!$L$10/SUM('Cost Comparison'!$H$10+'Cost Comparison'!$L$10))","v":0}]
["Conn. Load Summer",{"$f":"'Cost Comparison'!D14","v":0},{"$f":"VLOOKUP('Cost Comparison'!$B$6,Rates!$A$2:$W$31,17,0)","v":false},0,{"$f":"VLOOKUP('Cost Comparison'!$B$6,Rates!$A$36:$W$67,17,0)","v":false},0,{"$f":"VLOOKUP('Cost Comparison'!$B$6,Rates!$A$69:$W$100,17,0)","v":false},0]
["Conn. Load Winter",{"$f":"'Cost Comparison'!D15","v":0},{"$f":"VLOOKUP('Cost Comparison'!$B$6,Rates!$A$2:$W$31,18,0)","v":false},0,{"$f":"VLOOKUP('Cost Comparison'!$B$6,Rates!$A$36:$W$67,18,0)","v":false},0,{"$f":"VLOOKUP('Cost Comparison'!$B$6,Rates!$A$69:$W$100,18,0)","v":false},0]
[{"$f":"Rates!S2","v":"Single-phase"},{"$f":"IF(A24='Cost Comparison'!$R$13,SUM('Cost Comparison'!$L$10+'Cost Comparison'!$H$10,0))","v":0},{"$f":"VLOOKUP('Cost Comparison'!$B$6,Rates!$A$2:$W$31,19,0)","v":0.32854},0]
[{"$f":"Rates!T2","v":"Poly-phase"},{"$f":"IF(A25='Cost Comparison'!$R$13,'Cost Comparison'!$R$10,0)","v":0},{"$f":"VLOOKUP('Cost Comparison'!$B$6,Rates!$A$2:$W$31,20,0)","v":0.65708},0]
["Voluntary",{"$f":"IF(E2=\"E19\",IF('Cost Comparison'!R16=\"Voluntary\",'Cost Comparison'!H10+'Cost Comparison'!L10,0),0)","v":0},{"$f":"VLOOKUP('Cost Comparison'!$B$6,Rates!$A$2:$W$31,21,0)","v":false},0]
["Mandatory",{"$f":"IF(E2=\"E19\",IF('Cost Comparison'!R16=\"Mandatory\",'Cost Comparison'!R10,0),0)","v":0},{"$f":"VLOOKUP('Cost Comparison'!$B$6,Rates!$A$2:$W$31,22,0)","v":false},0]
["Total",null,null,{"$f":"SUM(D7:D27)","v":0},null,{"$f":"SUM(F7:F25)","v":0},null,{"$f":"SUM(H7:H25)","v":0}]
[]
["Raw Total",{"$f":"D28","v":0}]
["CARE Discount",{"$f":"SUM(CARE!D3:D7)","v":0}]
["PG&E Bundled Total",{"$f":"B30-B31","v":0},null,null,"GreenPrime Rate",8.0000000000000002E-3]
["PG&E Gen",{"$f":"F28","v":0}]
["PG&E T&D",{"$f":"B32-B33","v":0}]
["SVCEA Gen Only",{"$f":"H28","v":0}]
["SVCEA NEM Bonus",{"$f":"F37*F32","v":0}]
["SVCEA Gen",{"$f":"SUM(B35:B36)","v":0},null,null,"Eligible NEM Bonus Usage",{"$f":"SUMIFS(B8:B15,B8:B15,\"<0\",C8:C15,\"<>FALSE\")","v":0}]
["PCIA",{"$f":"H1","v":0}]
["FF",{"$f":"H3","v":0}]
["Solar Choice Premium",{"$f":"E3*VLOOKUP(E2,'PCIA  FF'!A27:B36,2,FALSE)","v":0}]
["Solar Choice PCIA",{"$f":"VLOOKUP(Calculation!E2,'PCIA  FF'!A1:U11,MATCH('Cost Comparison'!R11,'PCIA  FF'!1:1,0),FALSE)*E3","v":0}]
["… without PCIA",{"$f":"B40-B41","v":0}]
["Deep Green Premium",{"$f":"E3*F32","v":0}]
["Local Sol Gen Rate",{"$f":"SUM(E3*F33,H16:H23)","v":0}]

{"sheet":"Rates","index":2,"n_rows":98,"n_cols":22,"rows_kept":98,"cut":false,"hidden":true,"merged":[]}
["Bundled Charges",null,"Flat Rate Options",null,"TOU Rate Options",null,null,null,null,null,"Demand Charges",null,null,null,null,null,null,null,"Per Meter/Day"]
["Rate Schedules","All Usage","Summer","Winter","Summer Peak","Summer Partial Peak","Summer Off Peak","Winter Peak","Winter Partial Peak","Winter Off Peak","Summer Peak","Summer Partial Peak","Summer Maximum","Winter Off Peak","Winter Partial","Winter Maximum","Conn. Load Sum.","Conn. Load Win.","Single-phase","Poly-phase","Voluntary","Mandatory"]
["A1 (COM-1)",false,0.25385999999999997,0.19670000000000001,false,false,false,false,false,false,false,false,false,false,false,false,false,false,0.32854,0.65708,false,false]
["A1X (COM-1 TOU)",false,false,false,0.26800000000000002,0.24435000000000001,0.217,false,0.22622,0.20530000000000001,false,false,false,false,false,false,false,false,{"$f":"S3","v":0.32854},{"$f":"T3","v":0.65708},false,false]
["A6 (COM-6)",false,false,false,0.56477999999999995,0.26795999999999998,0.19636999999999999,false,0.21389,0.19564999999999999,false,false,false,false,false,false,false,false,{"$f":"S3","v":0.32854},{"$f":"T3","v":0.65708},false,false]
["A10A (COM-10)",false,0.16949,0.13075000000000001,false,false,false,false,false,false,false,false,19.52,false,false,11.76,false,false,4.5995900000000001,{"$f":"S6","v":4.5995900000000001},false,false]
["A10B (COM-10-TOU)",false,false,false,0.22337000000000001,0.16824,0.14016999999999999,false,0.14054,0.12347,false,false,{"$f":"M6","v":19.52},false,false,{"$f":"P6","v":11.76},false,false,{"$f":"S6","v":4.5995900000000001},{"$f":"T6","v":4.5995900000000001},false,false]
["E19S (COM-19S)",false,false,false,0.16055,0.11613,8.6709999999999995E-2,false,0.11004,9.4009999999999996E-2,19.649999999999999,5.4,17.739999999999998,false,0.12,17.739999999999998,false,false,false,false,{"$f":"S6","v":4.5995900000000001},19.712530000000001]
["E19P (COM-19P)",false,false,false,0.14943999999999999,0.10739,8.0360000000000001E-2,false,0.10170999999999999,8.7040000000000006E-2,17.489999999999998,4.72,14.7,false,0.14000000000000001,14.7,false,false,false,false,{"$f":"U8","v":4.5995900000000001},{"$f":"V8","v":19.712530000000001}]
["E19T (COM-19T)",false,false,false,0.11286,9.8589999999999997E-2,7.9699999999999993E-2,false,0.10083,8.6319999999999994E-2,14.06,3.53,9.56,false,0,9.56,false,false,false,false,{"$f":"U7","v":false},{"$f":"V7","v":false}]
["E19SR (COM-19SR)",false,false,false,0.36094999999999999,0.16677,8.6709999999999995E-2,false,0.11051999999999999,9.4009999999999996E-2,1.45,0.5,17.739999999999998,false,0.03,17.739999999999998,false,false,false,false,{"$f":"U8","v":4.5995900000000001},{"$f":"V8","v":19.712530000000001}]
["E20S (COM-20S)",false,false,false,0.15018000000000001,0.10981,8.2100000000000006E-2,false,0.10395,8.8929999999999995E-2,19.02,5.23,17.87,false,0.05,17.87,false,false,39.425049999999999,{"$f":"S12","v":39.425049999999999},false,false]
["E20P (COM-20P)",false,false,false,0.14435999999999999,0.10374,7.8759999999999997E-2,false,9.8390000000000005E-2,8.4900000000000003E-2,19.260000000000002,5.13,15.1,false,0.12,15.1,false,false,49.281309999999998,{"$f":"S13","v":49.281309999999998},false,false]
["E20T (COM-20T)",false,false,false,0.10123,8.8999999999999996E-2,7.281E-2,false,9.0920000000000001E-2,7.8490000000000004E-2,15.89,3.79,8.32,false,0,8.32,false,false,65.708420000000004,65.708420000000004,false,false]
["E20SR (COM-20SR)",false,false,false,0.33040000000000003,1.5703999999999999E-2,8.2100000000000006E-2,false,0.10414,8.8929999999999995E-2,1.4,0.48,17.87,false,0.01,17.87,false,false,{"$f":"S12","v":39.425049999999999},39.425049999999999,false,false]
["E20PR (COM-20PR)",false,false,false,0.34638000000000002,0.15390999999999999,8.0119999999999997E-2,false,0.10209,8.6840000000000001E-2,1.41,0.47,15.61,false,0.03,15.61,false,false,{"$f":"S13","v":49.281309999999998},49.281309999999998,false,false]
["E20TR (COM-20TR)",false,false,false,0.29314000000000001,0.13145000000000001,7.3859999999999995E-2,false,9.3719999999999998E-2,8.0079999999999998E-2,0,0,9.07,false,false,9.07,false,false,65.708420000000004,65.708420000000004,false,false]
["LS-1, LS-2, LS-3 (SL-1)",0.16450999999999999,false,false,false,false,false,false,false,false,false,false,false,false,false,false,false,false,false,false,false,false]
["TC-1",0.18945000000000001,false,false,false,false,false,false,false,false,false,false,false,false,false,false,false,false,0.32854,0.32854,false,false]
["AG-1A",false,0.28270000000000001,0.21839,false,false,false,false,false,false,false,false,false,false,false,false,7.84,1.46,0.57399999999999995,{"$f":"S20","v":0.57399999999999995},false,false]
["AG-1B",false,0.24443999999999999,0.19034999999999999,false,false,false,false,false,false,false,false,11.5,false,false,2.2599999999999998,false,false,0.76312999999999998,{"$f":"S21","v":0.76312999999999998},false,false]
["AG-4A",false,false,false,0.45040999999999998,false,0.19766,false,0.20472000000000001,0.16644,false,false,false,false,false,false,8.02,1.18,{"$f":"0.574+0.22341","v":0.79740999999999995},{"$f":"S22","v":0.79740999999999995},false,false]
["AG-4B",false,false,false,0.29802000000000001,false,0.16173000000000001,false,0.16188,0.13657,5.33,false,9.7899999999999991,false,false,2.19,false,false,{"$f":"0.76313+0.19713","v":0.96026},0.96026,false,false]
["AG-4C",false,false,false,0.27623999999999999,0.16255,0.1227,false,0.13567000000000001,0.11797000000000001,12.46,2.36,4.7699999999999996,false,0.52,2.2999999999999998,false,false,{"$f":"2.15003+0.19713","v":2.3471600000000001},2.3471600000000001,false,false]
["AG-5A, AG-5D",false,false,false,0.31641000000000002,false,0.16211,false,0.17058000000000001,0.14462,false,false,false,false,false,false,11.82,2.11,{"$f":"S22","v":0.79740999999999995},0.79740999999999995,false,false]
["AG-5B, AG-5E",false,false,false,0.22184000000000001,false,9.5430000000000001E-2,false,0.11743000000000001,8.6330000000000004E-2,10.23,false,15.41,false,false,5.75,false,false,{"$f":"1.19446+0.19713","v":1.3915900000000001},1.3915900000000001,false,false]
["AG-5C, AG-5F",false,false,false,0.17333000000000001,0.11762,9.6879999999999994E-2,false,0.10309,9.3670000000000003E-2,17.43,3.59,5.74,false,0.85,3.58,false,false,{"$f":"5.30871+0.19713","v":5.5058399999999992},5.5058399999999992,false,false]
["AG-RA",false,false,false,0.54357999999999995,false,0.18776000000000001,false,0.19216,0.15834999999999999,false,false,false,false,false,false,6.99,1.1200000000000001,{"$f":"S22","v":0.79740999999999995},0.79740999999999995,false,false]
["AG-RB",false,false,false,0.49019000000000001,false,0.17791999999999999,false,0.16689000000000001,0.13836999999999999,3.84,false,9.51,false,false,1.86,false,false,{"$f":"S23","v":0.96026},0.96026,false,false]
["AG-VA",false,false,false,0.50573000000000001,false,0.18434,false,0.19314000000000001,0.15867000000000001,false,false,false,false,false,false,7.02,1.1599999999999999,{"$f":"S28","v":0.79740999999999995},0.79740999999999995,false,false]
["AG-VB",false,false,false,0.45343,false,0.17299999999999999,false,0.16436999999999999,0.13677,3.83,false,9.5500000000000007,false,false,1.84,false,false,{"$f":"S29","v":0.96026},{"$f":"T29","v":0.96026},false,false]
[]
[]
[]
["PG&E Generation",null,"Flat Rate Options",null,"TOU Rate Options",null,null,null,null,null,"Demand Charges"]
["Rate Schedules",{"$f":"B2","v":"All Usage"},"Summer","Winter","Summer Peak","Summer Partial Peak","Summer Off Peak","Winter Peak","Winter Partial Peak","Winter Off Peak","Summer Peak","Summer Partial Peak","Summer Maximum","Winter Off Peak","Winter Partial","Winter Maximum","Conn. Load Sum.","Conn. Load Win."]
[{"$f":"A3","v":"A1 (COM-1)"},false,0.12570000000000001,8.6480000000000001E-2,false,false,false,false,false,false,false,false,false,false,false,false,false,false]
["A1X (COM-1 TOU)",false,false,false,0.13983999999999999,0.11619,8.8840000000000002E-2,false,0.11600000000000001,9.5079999999999998E-2,false,false,false,false,false,false,false,false]
["A6 (COM-6)",false,false,false,0.37744,0.13786000000000001,7.9570000000000002E-2,false,0.10503,8.7540000000000007E-2,false,false,false,false,false,false,false,false]
["A10A (COM-10)",false,0.11613999999999999,8.9160000000000003E-2,false,false,false,false,false,false,false,false,5.41,false,false,false,false,false]
["A10B (COM-10-TOU)",false,false,false,0.17002,0.11489000000000001,8.6819999999999994E-2,false,9.8949999999999996E-2,8.1879999999999994E-2,false,false,{"$f":"M40","v":5.41},false,false,false,false,false]
["E19S (COM-19S)",false,false,false,0.13766,9.3240000000000003E-2,6.3820000000000002E-2,false,8.7150000000000005E-2,7.1120000000000003E-2,13.86,3.42,false,false,false,false,false,false]
["E19P (COM-19P)",false,false,false,0.12751000000000001,8.5459999999999994E-2,5.8430000000000003E-2,false,7.9780000000000004E-2,6.5110000000000001E-2,12.37,3.01,false,false,false,false,false,false]
["E19T (COM-19T)",false,false,false,9.0959999999999999E-2,7.6689999999999994E-2,5.7799999999999997E-2,false,7.893E-2,6.4420000000000005E-2,14.06,3.53,false,false,false,false,false,false]
[{"$f":"A11","v":"E19SR (COM-19SR)"},false,false,false,0.29098000000000002,0.12891,6.3820000000000002E-2,false,8.7150000000000005E-2,7.1120000000000003E-2,false,false,false,false,false,false,false,false]
["E20S (COM-20S)",false,false,false,0.12784000000000001,8.7470000000000006E-2,5.9760000000000001E-2,false,8.1610000000000002E-2,6.6589999999999996E-2,13.41,3.31,false,false,false,false,false,false]
["E20P (COM-20P)",false,false,false,0.13073000000000001,8.6230000000000001E-2,5.8860000000000003E-2,false,8.0369999999999997E-2,6.5579999999999999E-2,14.72,3.48,false,false,false,false,false,false]
["E20T (COM-20T)",false,false,false,8.5500000000000007E-2,7.2090000000000001E-2,5.4339999999999999E-2,false,7.4200000000000002E-2,6.0560000000000003E-2,17.420000000000002,4.1500000000000004,false,false,false,false,false,false]
["E20SR (COM-20SR)",false,false,false,0.26513999999999999,0.12067,5.9760000000000001E-2,false,8.1610000000000002E-2,6.6589999999999996E-2,false,false,false,false,false,false,false,false]
["E20PR (COM-20PR)",false,false,false,0.28228999999999999,0.11956,5.8860000000000003E-2,false,8.0369999999999997E-2,6.5579999999999999E-2,false,false,false,false,false,false,false,false]
["E20TR (COM-20TR)",false,false,false,0.27361999999999997,0.11193,5.4339999999999999E-2,false,7.4200000000000002E-2,6.0560000000000003E-2,false,false,false,false,false,false,false,false]
["LS-1, LS-2, LS-3 (SL-1)",8.7529999999999997E-2,false,false,false,false,false,false,false,false,false,false,false,false,false,false,false,false]
["TC-1",9.5039999999999999E-2,false,false,false,false,false,false,false,false,false,false,false,false,false,false,false,false]
["AG-1A",false,0.10874,8.7209999999999996E-2,false,false,false,false,false,false,false,false,false,false,false,false,1.49,false]
["AG-1B",false,0.11198,8.7290000000000006E-2,false,false,false,false,false,false,false,false,2.2400000000000002,false,false,false,false,false]
["AG-4A",false,false,false,0.17399000000000001,false,7.5109999999999996E-2,false,7.9600000000000004E-2,6.7820000000000005E-2,false,false,false,false,false,false,1.48,false]
["AG-4B",false,false,false,0.13325000000000001,false,7.7340000000000006E-2,false,7.5420000000000001E-2,6.4170000000000005E-2,2.78,false,2.62,false,false,false,false,false]
["AG-4C",false,false,false,0.15376999999999999,8.7050000000000002E-2,6.2810000000000005E-2,false,6.9690000000000002E-2,5.9279999999999999E-2,6.45,1.1000000000000001,false,false,false,false,false,false]
["AG-5A, AG-5D",false,false,false,0.16283,false,8.0509999999999998E-2,false,8.4320000000000006E-2,7.1910000000000002E-2,false,false,false,false,false,false,4.05,false]
["AG-5B, AG-5E",false,false,false,0.15903999999999999,false,5.3469999999999997E-2,false,7.5469999999999995E-2,4.437E-2,6.1,false,4.87,false,false,false,false,false]
["AG-5C, AG-5F",false,false,false,0.13183,7.6119999999999993E-2,5.5379999999999999E-2,false,6.1589999999999999E-2,5.2170000000000001E-2,11.31,2.13,false,false,false,false,false,false]
["AG-RA",false,false,false,0.29269000000000001,false,7.3719999999999994E-2,false,8.1519999999999995E-2,6.9389999999999993E-2,false,false,false,false,false,false,1.44,false]
["AG-RB",false,false,false,0.26432,false,7.3169999999999999E-2,false,6.7129999999999995E-2,5.7169999999999999E-2,2.39,false,2.13,false,false,false,false,false]
["AG-VA",false,false,false,0.25609999999999999,false,7.0739999999999997E-2,false,7.9850000000000004E-2,6.7970000000000003E-2,false,false,false,false,false,false,1.5,false]
["AG-VB",false,false,false,0.23649000000000001,false,7.1179999999999993E-2,false,6.7379999999999995E-2,5.7369999999999997E-2,2.5099999999999998,false,1.95,false,false,false,false,false]
[]
[]
["SVCEA Generation",null,"Flat Rate Options",null,"TOU Rate Options",null,null,null,null,null,"Demand Charges"]
["Rate Schedules",{"$f":"B2","v":"All Usage"},"Summer","Winter","Summer Peak","Summer Partial Peak","Summer Off Peak","Winter Peak","Winter Partial Peak","Winter Off Peak","Summer Peak","Summer Partial Peak","Summer Maximum","Winter Off Peak","Winter Partial","Winter Maximum","Conn. Load Sum.","Conn. Load Win.","PCIA Mapping"]
[{"$f":"A37","v":"A1 (COM-1)"},false,9.2880000000000004E-2,5.6009999999999997E-2,false,false,false,false,false,false,false,false,false,false,false,false,false,false,{"$f":"'PCIA  FF'!$A$3","v":"A1"}]
["A1X (COM-1 TOU)",false,false,false,0.10617,8.3940000000000001E-2,5.8229999999999997E-2,false,8.3760000000000001E-2,6.4100000000000004E-2,false,false,false,false,false,false,false,false,{"$f":"'PCIA  FF'!$A$3","v":"A1"}]
["A6 (COM-6)",false,false,false,0.32951000000000003,0.10431,4.9520000000000002E-2,false,7.3450000000000001E-2,5.7009999999999998E-2,false,false,false,false,false,false,false,false,{"$f":"'PCIA  FF'!$A$3","v":"A1"}]
["A10A (COM-10)",false,8.3489999999999995E-2,5.8130000000000001E-2,false,false,false,false,false,false,false,false,5.09,false,false,false,false,false,{"$f":"'PCIA  FF'!$A$4","v":"A10"}]
["A10B (COM-10-TOU)",false,false,false,0.13414000000000001,8.2320000000000004E-2,5.5930000000000001E-2,false,6.7330000000000001E-2,5.1290000000000002E-2,false,false,5.09,false,false,false,false,false,{"$f":"'PCIA  FF'!$A$4","v":"A10"}]
["E19S (COM-19S)",false,false,false,0.10775,6.6000000000000003E-2,3.8339999999999999E-2,false,6.0269999999999997E-2,4.5199999999999997E-2,13.03,3.21,false,false,false,false,false,false,"E19"]
["E19P (COM-19P)",false,false,false,9.8210000000000006E-2,5.8680000000000003E-2,3.3270000000000001E-2,false,5.3339999999999999E-2,3.9550000000000002E-2,11.63,2.83,false,false,false,false,false,false,"E19"]
["E19T (COM-19T)",false,false,false,6.3850000000000004E-2,5.0439999999999999E-2,3.2680000000000001E-2,false,5.2540000000000003E-2,3.8899999999999997E-2,13.22,3.32,false,false,false,false,false,false,"E19"]
[{"$f":"A45","v":"E19SR (COM-19SR)"},false,false,false,0.25186999999999998,9.9529999999999993E-2,3.8339999999999999E-2,false,6.0269999999999997E-2,4.5199999999999997E-2,false,false,false,false,false,false,false,false,"E19"]
["E20S (COM-20S)",false,false,false,9.9339999999999998E-2,6.139E-2,3.5340000000000003E-2,false,5.5879999999999999E-2,4.1759999999999999E-2,12.61,3.11,false,false,false,false,false,false,{"$f":"'PCIA  FF'!A11","v":"E20S"}]
["E20P (COM-20P)",false,false,false,0.10345,6.1620000000000001E-2,3.5889999999999998E-2,false,5.611E-2,4.2209999999999998E-2,13.84,3.27,false,false,false,false,false,false,{"$f":"'PCIA  FF'!A10","v":"E20P"}]
["E20T (COM-20T)",false,false,false,6.2509999999999996E-2,4.99E-2,3.322E-2,false,5.1889999999999999E-2,3.9070000000000001E-2,16.37,3.9,false,false,false,false,false,false,{"$f":"'PCIA  FF'!A9","v":"E20T"}]
["E20SR (COM-20SR)",false,false,false,0.22839999999999999,9.2600000000000002E-2,3.5340000000000003E-2,false,5.5879999999999999E-2,4.1759999999999999E-2,false,false,false,false,false,false,false,false,{"$f":"S79","v":"E20S"}]
["E20PR (COM-20PR)",false,false,false,0.24590999999999999,9.2950000000000005E-2,3.5889999999999998E-2,false,5.611E-2,4.2209999999999998E-2,false,false,false,false,false,false,false,false,{"$f":"S80","v":"E20P"}]
["E20TR (COM-20TR)",false,false,false,0.23934,8.7349999999999997E-2,3.322E-2,false,5.1889999999999999E-2,3.9070000000000001E-2,false,false,false,false,false,false,false,false,{"$f":"S81","v":"E20T"}]
["LS-1, LS-2, LS-3 (SL-1)",7.578E-2,false,false,false,false,false,false,false,false,false,false,false,false,false,false,false,false,{"$f":"'PCIA  FF'!A6","v":"Streelights"}]
["TC-1",6.4060000000000006E-2,false,false,false,false,false,false,false,false,false,false,false,false,false,false,false,false,{"$f":"S70","v":"A1"}]
["AG-1A",false,7.7060000000000003E-2,5.6820000000000002E-2,false,false,false,false,false,false,false,false,1.4,false,false,false,1.35,false,"Agriculture"]
["AG-1B",false,8.0100000000000005E-2,5.6890000000000003E-2,false,false,false,false,false,false,false,false,2.11,false,false,false,false,false,{"$f":"S87","v":"Agriculture"}]
["AG-4A",false,false,false,0.13839000000000001,false,4.5440000000000001E-2,false,4.9660000000000003E-2,3.8589999999999999E-2,false,false,1.39,false,false,false,1.34,false,{"$f":"S88","v":"Agriculture"}]
["AG-4B",false,false,false,0.10009999999999999,false,4.7539999999999999E-2,false,4.573E-2,3.5159999999999997E-2,2.61,false,2.46,false,false,false,false,false,"Agriculture"]
["AG-4C",false,false,false,0.11938,5.6669999999999998E-2,3.388E-2,false,4.0349999999999997E-2,3.056E-2,6.06,1.03,false,false,false,false,false,false,"Agriculture"]
["AG-5A, AG-5D",false,false,false,0.12790000000000001,false,5.0520000000000002E-2,false,5.4100000000000002E-2,4.2439999999999999E-2,false,false,3.81,false,false,false,3.66,false,"Agriculture"]
["AG-5B, AG-5E",false,false,false,0.12434000000000001,false,2.5100000000000001E-2,false,4.5780000000000001E-2,1.6549999999999999E-2,5.73,false,4.58,false,false,false,false,false,"Agriculture"]
[{"$f":"A61","v":"AG-5C, AG-5F"},false,false,false,9.8760000000000001E-2,4.6390000000000001E-2,2.69E-2,false,3.2730000000000002E-2,2.3879999999999998E-2,10.63,2,false,false,false,false,false,false,"Agriculture"]
["AG-RA",false,false,false,0.24997,false,4.4139999999999999E-2,false,5.1470000000000002E-2,4.0070000000000001E-2,1.35,false,false,false,false,false,1.3,false,"Agriculture"]
["AG-RB",false,false,false,0.2233,false,4.3619999999999999E-2,false,3.7940000000000002E-2,2.8580000000000001E-2,2.25,false,2,false,false,false,false,false,"Agriculture"]
["AG-VA",false,false,false,0.23966999999999999,false,6.5439999999999998E-2,false,7.3999999999999996E-2,6.2829999999999997E-2,false,false,1.41,false,false,false,1.36,false,"Agriculture"]
["AG-VB",false,false,false,0.19714000000000001,false,4.1750000000000002E-2,false,3.8179999999999999E-2,2.877E-2,2.36,false,1.83,false,false,false,false,false,"Agriculture"]

{"sheet":"PCIA  FF","index":3,"n_rows":36,"n_cols":16,"rows_kept":36,"cut":false,"hidden":true,"merged":[]}
["PCIA",null,2009,2010,2011,2012,2013,2014,2015,2016,2017,2018,null,null,"Error-checking and debugging:"]
["Residential",null,null,null,null,null,null,null,null,null,null,null,null,null,"Min","Max"]
["A1",null,2.053E-2,2.3349999999999999E-2,2.4230000000000002E-2,2.4910000000000002E-2,2.4969999999999999E-2,2.4719999999999999E-2,2.46E-2,2.4660000000000001E-2,{"$f":"J3","v":2.4660000000000001E-2},{"$f":"J3","v":2.4660000000000001E-2},null,null,{"$f":"MIN(C3:K3)","v":2.053E-2},{"$f":"MAX(C3:K3)","v":2.4969999999999999E-2}]
["A10",null,2.0820000000000002E-2,2.368E-2,2.4570000000000002E-2,2.5260000000000001E-2,2.5329999999999998E-2,2.5080000000000002E-2,2.496E-2,2.5010000000000001E-2,2.5020000000000001E-2,{"$f":"K4","v":2.5020000000000001E-2},null,null,{"$f":"MIN(C4:K4)","v":2.0820000000000002E-2},{"$f":"MAX(C4:K4)","v":2.5329999999999998E-2}]
["E19",null,1.7520000000000001E-2,1.992E-2,2.0670000000000001E-2,2.1250000000000002E-2,2.1309999999999999E-2,2.1090000000000001E-2,2.0990000000000002E-2,2.104E-2,{"$f":"J5","v":2.104E-2},{"$f":"J5","v":2.104E-2},null,null,1.7520000000000001E-2,2.1309999999999999E-2]
["Streelights",null,4.9100000000000003E-3,5.5799999999999999E-3,5.79E-3,5.9500000000000004E-3,5.9699999999999996E-3,5.9100000000000003E-3,5.8799999999999998E-3,5.8900000000000003E-3,{"$f":"J6","v":5.8900000000000003E-3},{"$f":"J6","v":5.8900000000000003E-3},null,null,4.9100000000000003E-3,5.9699999999999996E-3]
["Standby",null,9.9600000000000001E-3,1.132E-2,1.175E-2,1.208E-2,1.2109999999999999E-2,1.1990000000000001E-2,1.193E-2,1.196E-2,{"$f":"J7","v":1.196E-2},{"$f":"J7","v":1.196E-2},null,null,9.9600000000000001E-3,1.2109999999999999E-2]
["Agriculture",null,2.051E-2,2.332E-2,2.4199999999999999E-2,2.4879999999999999E-2,2.494E-2,2.47E-2,2.4570000000000002E-2,2.4629999999999999E-2,2.4629999999999999E-2,2.4629999999999999E-2,null,null,2.051E-2,2.494E-2]
["E20T",null,1.4449999999999999E-2,1.643E-2,1.704E-2,1.7520000000000001E-2,1.7569999999999999E-2,1.7399999999999999E-2,1.7309999999999999E-2,1.7350000000000001E-2,{"$f":"J9","v":1.7350000000000001E-2},{"$f":"J9","v":1.7350000000000001E-2},null,null,1.4449999999999999E-2,1.7569999999999999E-2]
["E20P",null,1.5720000000000001E-2,1.787E-2,1.8540000000000001E-2,1.9060000000000001E-2,1.9109999999999999E-2,1.8919999999999999E-2,1.883E-2,1.8870000000000001E-2,1.8880000000000001E-2,{"$f":"K10","v":1.8880000000000001E-2},null,null,1.5720000000000001E-2,1.9109999999999999E-2]
["E20S",null,1.686E-2,1.916E-2,1.9890000000000001E-2,2.0449999999999999E-2,2.0500000000000001E-2,2.0299999999999999E-2,2.0199999999999999E-2,2.0240000000000001E-2,2.0250000000000001E-2,{"$f":"K11","v":2.0250000000000001E-2},null,null,1.686E-2,2.0500000000000001E-2]
[]
[]
["FFS","Pre-2009",{"$f":"C1","v":2009},{"$f":"D1","v":2010},2011,2012,2013,2014,2015,2016,{"$f":"K1","v":2017},2018]
["Residential",8.0000000000000004E-4,5.9999999999999995E-4,5.6999999999999998E-4,5.5999999999999995E-4,5.5000000000000003E-4,5.5000000000000003E-4,5.5000000000000003E-4,5.5000000000000003E-4,5.5000000000000003E-4,5.5000000000000003E-4,5.5000000000000003E-4]
["A1",8.0000000000000004E-4,6.4999999999999997E-4,6.3000000000000003E-4,6.2E-4,6.2E-4,6.2E-4,6.2E-4,6.2E-4,6.2E-4,6.2E-4,6.2E-4,null,null,6.2E-4,6.4999999999999997E-4]
["A10",8.4999999999999995E-4,6.8999999999999997E-4,6.7000000000000002E-4,6.6E-4,6.6E-4,6.6E-4,6.6E-4,6.6E-4,6.6E-4,6.6E-4,6.6E-4,null,null,6.6E-4,6.8999999999999997E-4]
["E19",7.6999999999999996E-4,6.4000000000000005E-4,6.2E-4,6.0999999999999997E-4,6.0999999999999997E-4,6.0999999999999997E-4,6.0999999999999997E-4,6.0999999999999997E-4,6.0999999999999997E-4,6.0999999999999997E-4,6.0999999999999997E-4,null,null,6.0999999999999997E-4,6.4000000000000005E-4]
["Streelights",6.6E-4,6.2E-4,6.2E-4,6.0999999999999997E-4,6.0999999999999997E-4,6.0999999999999997E-4,6.0999999999999997E-4,6.0999999999999997E-4,6.0999999999999997E-4,6.0999999999999997E-4,6.0999999999999997E-4,null,null,6.0999999999999997E-4,6.2E-4]
["Standby",5.9000000000000003E-4,5.1000000000000004E-4,5.0000000000000001E-4,5.0000000000000001E-4,5.0000000000000001E-4,5.0000000000000001E-4,5.0000000000000001E-4,5.0000000000000001E-4,5.0000000000000001E-4,5.0000000000000001E-4,5.0000000000000001E-4,null,null,5.0000000000000001E-4,5.1000000000000004E-4]
["Agriculture",7.1000000000000002E-4,5.5999999999999995E-4,5.4000000000000001E-4,5.2999999999999998E-4,5.1999999999999995E-4,5.1999999999999995E-4,5.2999999999999998E-4,5.2999999999999998E-4,5.2999999999999998E-4,5.2999999999999998E-4,5.2999999999999998E-4,null,null,5.1999999999999995E-4,5.5999999999999995E-4]
["E20T",6.4000000000000005E-4,5.4000000000000001E-4,5.1999999999999995E-4,5.1999999999999995E-4,5.1000000000000004E-4,5.1000000000000004E-4,5.1000000000000004E-4,5.1000000000000004E-4,5.1000000000000004E-4,5.1000000000000004E-4,5.1000000000000004E-4,null,null,5.1000000000000004E-4,5.4000000000000001E-4]
["E20P",6.9999999999999999E-4,5.8E-4,5.6999999999999998E-4,5.5999999999999995E-4,5.5999999999999995E-4,5.5999999999999995E-4,5.5999999999999995E-4,5.5999999999999995E-4,5.5999999999999995E-4,5.5999999999999995E-4,5.5999999999999995E-4,null,null,5.5999999999999995E-4,5.8E-4]
["E20S",7.2999999999999996E-4,5.9999999999999995E-4,5.8E-4,5.8E-4,5.6999999999999998E-4,5.6999999999999998E-4,5.8E-4,5.8E-4,5.8E-4,5.8E-4,5.8E-4,null,null,5.6999999999999998E-4,5.9999999999999995E-4]
[]
[]
["Solar Prem. (Solar Choice Premium)","All Usage"]
["Residential",2.6100000000000002E-2]
["A1",1.6709999999999999E-2]
["A10",1.49E-2]
["E19",1.6990000000000002E-2]
["Streelights",1.5869999999999999E-2]
["Agriculture",3.3410000000000002E-2]
["E20T",2.9149999999999999E-2]
["E20P",2.3879999999999998E-2]
["E20S",2.1329999999999998E-2]

{"sheet":"CARE","index":4,"n_rows":7,"n_cols":7,"rows_kept":7,"cut":false,"hidden":true,"merged":[]}
["Commercial Care Discounts",null,null,null,null,"CARE Ind?",{"$f":"'Cost Comparison'!R14","v":"No"}]
[null,null,"Usage","Discount",null,"Eligible Usage",{"$f":"Calculation!E3","v":0}]
["A1",7.8939999999999996E-2,{"$f":"IF(AND($G$1=\"Yes\",Calculation!$E$2=CARE!$A3,'Cost Comparison'!B6<>\"TC-1\"),Calculation!$E$3,0)","v":0},{"$f":"B3*C3","v":0}]
["A6",7.6280000000000001E-2,{"$f":"IF(AND($G$1=\"Yes\",Calculation!$E$2=CARE!$A4),Calculation!$E$3,0)","v":0},{"$f":"B4*C4","v":0}]
["A10",7.0660000000000001E-2,{"$f":"IF(AND($G$1=\"Yes\",Calculation!$E$2=CARE!$A5),Calculation!$E$3,0)","v":0},{"$f":"B5*C5","v":0}]
["E19",6.2619999999999995E-2,{"$f":"IF(AND($G$1=\"Yes\",Calculation!$E$2=CARE!$A6),Calculation!$E$3,0)","v":0},{"$f":"B6*C6","v":0}]
["E20",5.1450000000000003E-2,{"$f":"IF(AND($G$1=\"Yes\",Calculation!$E$2=CARE!$A7),Calculation!$E$3,0)","v":0},0]

{"sheet":"Rebundled Rates","index":5,"n_rows":20,"n_cols":8,"rows_kept":20,"cut":false,"hidden":true,"merged":[[1,2,1,5]]}
[]
[null,"A1X (COM-1 TOU)","MCE",null,null,null,"PG&E","Overall"]
[null,"Season","MCE Gen.","PG&E Delivery","PG&E Fees","Effective Rate","PG&E Rate","% Diff."]
["Non-Seasonal","All Usage",{"$f":"IF(INDEX(Rates!$A$69:$J$100,MATCH($B$2,Rates!$A$69:$A$100,0),MATCH('Rebundled Rates'!B4,Rates!$2:$2,0))=FALSE,\"\",INDEX(Rates!$A$69:$J$100,MATCH($B$2,Rates!$A$69:$A$100,0),MATCH('Rebundled Rates'!B4,Rates!$2:$2,0)))","v":""},{"$f":"IF(INDEX(Rates!$A$36:$J$65,MATCH('Rebundled Rates'!$B$2,Rates!$A$2:$A$33,0),MATCH('Rebundled Rates'!B4,Rates!$2:$2,0))=FALSE,\"\",G4-INDEX(Rates!$A$36:$J$65,MATCH('Rebundled Rates'!$B$2,Rates!$A$2:$A$33,0),MATCH('Rebundled Rates'!B4,Rates!$2:$2,0)))","v":""},{"$f":"IF(C4=\"\",\"\",VLOOKUP(VLOOKUP($B$2,Rates!$A$68:$S$100,19,0),'PCIA  FF'!$A:$P,MATCH(MAX('PCIA  FF'!$1:$1),'PCIA  FF'!$1:$1,0),0)+VLOOKUP(VLOOKUP($B$2,Rates!$A$68:$S$100,19,0),'PCIA  FF'!$14:$24,MATCH(MAX('PCIA  FF'!$1:$1),'PCIA  FF'!$1:$1,0),0))","v":""},{"$f":"IF(SUM(C4:E4)=0,\"\",SUM(C4:E4))","v":""},{"$f":"IF(INDEX(Rates!$A$2:$J$33,MATCH('Rebundled Rates'!$B$2,Rates!$A$2:$A$33,0),MATCH('Rebundled Rates'!B4,Rates!$2:$2,0))=FALSE,\"\",INDEX(Rates!$A$2:$J$33,MATCH('Rebundled Rates'!$B$2,Rates!$A$2:$A$33,0),MATCH('Rebundled Rates'!B4,Rates!$2:$2,0)))","v":""},{"$f":"IFERROR((F4/G4)-1,\"\")","v":""}]
["Non-TOU",{"$f":"Rates!C2","v":"Summer"},{"$f":"IF(INDEX(Rates!$A$69:$J$100,MATCH($B$2,Rates!$A$69:$A$100,0),MATCH('Rebundled Rates'!B5,Rates!$2:$2,0))=FALSE,\"\",INDEX(Rates!$A$69:$J$100,MATCH($B$2,Rates!$A$69:$A$100,0),MATCH('Rebundled Rates'!B5,Rates!$2:$2,0)))","v":""},{"$f":"IF(INDEX(Rates!$A$36:$J$65,MATCH('Rebundled Rates'!$B$2,Rates!$A$2:$A$33,0),MATCH('Rebundled Rates'!B5,Rates!$2:$2,0))=FALSE,\"\",G5-INDEX(Rates!$A$36:$J$65,MATCH('Rebundled Rates'!$B$2,Rates!$A$2:$A$33,0),MATCH('Rebundled Rates'!B5,Rates!$2:$2,0)))","v":""},{"$f":"IF(C5=\"\",\"\",VLOOKUP(VLOOKUP($B$2,Rates!$A$68:$S$100,19,0),'PCIA  FF'!$A:$P,MATCH(MAX('PCIA  FF'!$1:$1),'PCIA  FF'!$1:$1,0),0)+VLOOKUP(VLOOKUP($B$2,Rates!$A$68:$S$100,19,0),'PCIA  FF'!$14:$24,MATCH(MAX('PCIA  FF'!$1:$1),'PCIA  FF'!$1:$1,0),0))","v":""},{"$f":"IF(SUM(C5:E5)=0,\"\",SUM(C5:E5))","v":""},{"$f":"IF(INDEX(Rates!$A$2:$J$33,MATCH('Rebundled Rates'!$B$2,Rates!$A$2:$A$33,0),MATCH('Rebundled Rates'!B5,Rates!$2:$2,0))=FALSE,\"\",INDEX(Rates!$A$2:$J$33,MATCH('Rebundled Rates'!$B$2,Rates!$A$2:$A$33,0),MATCH('Rebundled Rates'!B5,Rates!$2:$2,0)))","v":""},{"$f":"IFERROR((F5/G5)-1,\"\")","v":""}]
["Non-TOU",{"$f":"Rates!D2","v":"Winter"},{"$f":"IF(INDEX(Rates!$A$69:$J$100,MATCH($B$2,Rates!$A$69:$A$100,0),MATCH('Rebundled Rates'!B6,Rates!$2:$2,0))=FALSE,\"\",INDEX(Rates!$A$69:$J$100,MATCH($B$2,Rates!$A$69:$A$100,0),MATCH('Rebundled Rates'!B6,Rates!$2:$2,0)))","v":""},{"$f":"IF(INDEX(Rates!$A$36:$J$65,MATCH('Rebundled Rates'!$B$2,Rates!$A$2:$A$33,0),MATCH('Rebundled Rates'!B6,Rates!$2:$2,0))=FALSE,\"\",G6-INDEX(Rates!$A$36:$J$65,MATCH('Rebundled Rates'!$B$2,Rates!$A$2:$A$33,0),MATCH('Rebundled Rates'!B6,Rates!$2:$2,0)))","v":""},{"$f":"IF(C6=\"\",\"\",VLOOKUP(VLOOKUP($B$2,Rates!$A$68:$S$100,19,0),'PCIA  FF'!$A:$P,MATCH(MAX('PCIA  FF'!$1:$1),'PCIA  FF'!$1:$1,0),0)+VLOOKUP(VLOOKUP($B$2,Rates!$A$68:$S$100,19,0),'PCIA  FF'!$14:$24,MATCH(MAX('PCIA  FF'!$1:$1),'PCIA  FF'!$1:$1,0),0))","v":""},"",{"$f":"IF(INDEX(Rates!$A$2:$J$33,MATCH('Rebundled Rates'!$B$2,Rates!$A$2:$A$33,0),MATCH('Rebundled Rates'!B6,Rates!$2:$2,0))=FALSE,\"\",INDEX(Rates!$A$2:$J$33,MATCH('Rebundled Rates'!$B$2,Rates!$A$2:$A$33,0),MATCH('Rebundled Rates'!B6,Rates!$2:$2,0)))","v":""},""]
["TOU Usage",{"$f":"Rates!E2","v":"Summer Peak"},{"$f":"IF(INDEX(Rates!$A$69:$J$100,MATCH($B$2,Rates!$A$69:$A$100,0),MATCH('Rebundled Rates'!B7,Rates!$2:$2,0))=FALSE,\"\",INDEX(Rates!$A$69:$J$100,MATCH($B$2,Rates!$A$69:$A$100,0),MATCH('Rebundled Rates'!B7,Rates!$2:$2,0)))","v":0.10617},{"$f":"IF(INDEX(Rates!$A$36:$J$65,MATCH('Rebundled Rates'!$B$2,Rates!$A$2:$A$33,0),MATCH('Rebundled Rates'!B7,Rates!$2:$2,0))=FALSE,\"\",G7-INDEX(Rates!$A$36:$J$65,MATCH('Rebundled Rates'!$B$2,Rates!$A$2:$A$33,0),MATCH('Rebundled Rates'!B7,Rates!$2:$2,0)))","v":0.12816000000000002},{"$f":"IF(C7=\"\",\"\",VLOOKUP(VLOOKUP($B$2,Rates!$A$68:$S$100,19,0),'PCIA  FF'!$A:$P,MATCH(MAX('PCIA  FF'!$1:$1),'PCIA  FF'!$1:$1,0),0)+VLOOKUP(VLOOKUP($B$2,Rates!$A$68:$S$100,19,0),'PCIA  FF'!$14:$24,MATCH(MAX('PCIA  FF'!$1:$1),'PCIA  FF'!$1:$1,0),0))","v":2.528E-2},{"$f":"IF(SUM(C7:E7)=0,\"\",SUM(C7:E7))","v":0.25961000000000006},{"$f":"IF(INDEX(Rates!$A$2:$J$33,MATCH('Rebundled Rates'!$B$2,Rates!$A$2:$A$33,0),MATCH('Rebundled Rates'!B7,Rates!$2:$2,0))=FALSE,\"\",INDEX(Rates!$A$2:$J$33,MATCH('Rebundled Rates'!$B$2,Rates!$A$2:$A$33,0),MATCH('Rebundled Rates'!B7,Rates!$2:$2,0)))","v":0.26800000000000002},{"$f":"IFERROR((F7/G7)-1,\"\")","v":-3.1305970149253515E-2}]
["TOU Usage",{"$f":"Rates!F2","v":"Summer Partial Peak"},{"$f":"IF(INDEX(Rates!$A$69:$J$100,MATCH($B$2,Rates!$A$69:$A$100,0),MATCH('Rebundled Rates'!B8,Rates!$2:$2,0))=FALSE,\"\",INDEX(Rates!$A$69:$J$100,MATCH($B$2,Rates!$A$69:$A$100,0),MATCH('Rebundled Rates'!B8,Rates!$2:$2,0)))","v":8.3940000000000001E-2},{"$f":"IF(INDEX(Rates!$A$36:$J$65,MATCH('Rebundled Rates'!$B$2,Rates!$A$2:$A$33,0),MATCH('Rebundled Rates'!B8,Rates!$2:$2,0))=FALSE,\"\",G8-INDEX(Rates!$A$36:$J$65,MATCH('Rebundled Rates'!$B$2,Rates!$A$2:$A$33,0),MATCH('Rebundled Rates'!B8,Rates!$2:$2,0)))","v":0.12816},{"$f":"IF(C8=\"\",\"\",VLOOKUP(VLOOKUP($B$2,Rates!$A$68:$S$100,19,0),'PCIA  FF'!$A:$P,MATCH(MAX('PCIA  FF'!$1:$1),'PCIA  FF'!$1:$1,0),0)+VLOOKUP(VLOOKUP($B$2,Rates!$A$68:$S$100,19,0),'PCIA  FF'!$14:$24,MATCH(MAX('PCIA  FF'!$1:$1),'PCIA  FF'!$1:$1,0),0))","v":2.528E-2},{"$f":"IF(SUM(C8:E8)=0,\"\",SUM(C8:E8))","v":0.23738000000000001},{"$f":"IF(INDEX(Rates!$A$2:$J$33,MATCH('Rebundled Rates'!$B$2,Rates!$A$2:$A$33,0),MATCH('Rebundled Rates'!B8,Rates!$2:$2,0))=FALSE,\"\",INDEX(Rates!$A$2:$J$33,MATCH('Rebundled Rates'!$B$2,Rates!$A$2:$A$33,0),MATCH('Rebundled Rates'!B8,Rates!$2:$2,0)))","v":0.24435000000000001},{"$f":"IFERROR((F8/G8)-1,\"\")","v":-2.8524657253939045E-2}]
["TOU Usage",{"$f":"Rates!G2","v":"Summer Off Peak"},{"$f":"IF(INDEX(Rates!$A$69:$J$100,MATCH($B$2,Rates!$A$69:$A$100,0),MATCH('Rebundled Rates'!B9,Rates!$2:$2,0))=FALSE,\"\",INDEX(Rates!$A$69:$J$100,MATCH($B$2,Rates!$A$69:$A$100,0),MATCH('Rebundled Rates'!B9,Rates!$2:$2,0)))","v":5.8229999999999997E-2},{"$f":"IF(INDEX(Rates!$A$36:$J$65,MATCH('Rebundled Rates'!$B$2,Rates!$A$2:$A$33,0),MATCH('Rebundled Rates'!B9,Rates!$2:$2,0))=FALSE,\"\",G9-INDEX(Rates!$A$36:$J$65,MATCH('Rebundled Rates'!$B$2,Rates!$A$2:$A$33,0),MATCH('Rebundled Rates'!B9,Rates!$2:$2,0)))","v":0.12816},{"$f":"IF(C9=\"\",\"\",VLOOKUP(VLOOKUP($B$2,Rates!$A$68:$S$100,19,0),'PCIA  FF'!$A:$P,MATCH(MAX('PCIA  FF'!$1:$1),'PCIA  FF'!$1:$1,0),0)+VLOOKUP(VLOOKUP($B$2,Rates!$A$68:$S$100,19,0),'PCIA  FF'!$14:$24,MATCH(MAX('PCIA  FF'!$1:$1),'PCIA  FF'!$1:$1,0),0))","v":2.528E-2},0.21167,{"$f":"IF(INDEX(Rates!$A$2:$J$33,MATCH('Rebundled Rates'!$B$2,Rates!$A$2:$A$33,0),MATCH('Rebundled Rates'!B9,Rates!$2:$2,0))=FALSE,\"\",INDEX(Rates!$A$2:$J$33,MATCH('Rebundled Rates'!$B$2,Rates!$A$2:$A$33,0),MATCH('Rebundled Rates'!B9,Rates!$2:$2,0)))","v":0.217},-2.4562211981566828E-2]
["TOU Usage",{"$f":"Rates!H2","v":"Winter Peak"},{"$f":"IF(INDEX(Rates!$A$69:$J$100,MATCH($B$2,Rates!$A$69:$A$100,0),MATCH('Rebundled Rates'!B10,Rates!$2:$2,0))=FALSE,\"\",INDEX(Rates!$A$69:$J$100,MATCH($B$2,Rates!$A$69:$A$100,0),MATCH('Rebundled Rates'!B10,Rates!$2:$2,0)))","v":""},{"$f":"IF(INDEX(Rates!$A$36:$J$65,MATCH('Rebundled Rates'!$B$2,Rates!$A$2:$A$33,0),MATCH('Rebundled Rates'!B10,Rates!$2:$2,0))=FALSE,\"\",G10-INDEX(Rates!$A$36:$J$65,MATCH('Rebundled Rates'!$B$2,Rates!$A$2:$A$33,0),MATCH('Rebundled Rates'!B10,Rates!$2:$2,0)))","v":""},{"$f":"IF(C10=\"\",\"\",VLOOKUP(VLOOKUP($B$2,Rates!$A$68:$S$100,19,0),'PCIA  FF'!$A:$P,MATCH(MAX('PCIA  FF'!$1:$1),'PCIA  FF'!$1:$1,0),0)+VLOOKUP(VLOOKUP($B$2,Rates!$A$68:$S$100,19,0),'PCIA  FF'!$14:$24,MATCH(MAX('PCIA  FF'!$1:$1),'PCIA  FF'!$1:$1,0),0))","v":""},"",{"$f":"IF(INDEX(Rates!$A$2:$J$33,MATCH('Rebundled Rates'!$B$2,Rates!$A$2:$A$33,0),MATCH('Rebundled Rates'!B10,Rates!$2:$2,0))=FALSE,\"\",INDEX(Rates!$A$2:$J$33,MATCH('Rebundled Rates'!$B$2,Rates!$A$2:$A$33,0),MATCH('Rebundled Rates'!B10,Rates!$2:$2,0)))","v":""},""]
["TOU Usage",{"$f":"Rates!I2","v":"Winter Partial Peak"},{"$f":"IF(INDEX(Rates!$A$69:$J$100,MATCH($B$2,Rates!$A$69:$A$100,0),MATCH('Rebundled Rates'!B11,Rates!$2:$2,0))=FALSE,\"\",INDEX(Rates!$A$69:$J$100,MATCH($B$2,Rates!$A$69:$A$100,0),MATCH('Rebundled Rates'!B11,Rates!$2:$2,0)))","v":8.3760000000000001E-2},{"$f":"IF(INDEX(Rates!$A$36:$J$65,MATCH('Rebundled Rates'!$B$2,Rates!$A$2:$A$33,0),MATCH('Rebundled Rates'!B11,Rates!$2:$2,0))=FALSE,\"\",G11-INDEX(Rates!$A$36:$J$65,MATCH('Rebundled Rates'!$B$2,Rates!$A$2:$A$33,0),MATCH('Rebundled Rates'!B11,Rates!$2:$2,0)))","v":0.11022},{"$f":"IF(C11=\"\",\"\",VLOOKUP(VLOOKUP($B$2,Rates!$A$68:$S$100,19,0),'PCIA  FF'!$A:$P,MATCH(MAX('PCIA  FF'!$1:$1),'PCIA  FF'!$1:$1,0),0)+VLOOKUP(VLOOKUP($B$2,Rates!$A$68:$S$100,19,0),'PCIA  FF'!$14:$24,MATCH(MAX('PCIA  FF'!$1:$1),'PCIA  FF'!$1:$1,0),0))","v":2.528E-2},0.21925999999999998,{"$f":"IF(INDEX(Rates!$A$2:$J$33,MATCH('Rebundled Rates'!$B$2,Rates!$A$2:$A$33,0),MATCH('Rebundled Rates'!B11,Rates!$2:$2,0))=FALSE,\"\",INDEX(Rates!$A$2:$J$33,MATCH('Rebundled Rates'!$B$2,Rates!$A$2:$A$33,0),MATCH('Rebundled Rates'!B11,Rates!$2:$2,0)))","v":0.22622},-3.0766510476527342E-2]
["TOU Usage",{"$f":"Rates!J2","v":"Winter Off Peak"},{"$f":"IF(INDEX(Rates!$A$69:$J$100,MATCH($B$2,Rates!$A$69:$A$100,0),MATCH('Rebundled Rates'!B12,Rates!$2:$2,0))=FALSE,\"\",INDEX(Rates!$A$69:$J$100,MATCH($B$2,Rates!$A$69:$A$100,0),MATCH('Rebundled Rates'!B12,Rates!$2:$2,0)))","v":6.4100000000000004E-2},{"$f":"IF(INDEX(Rates!$A$36:$J$65,MATCH('Rebundled Rates'!$B$2,Rates!$A$2:$A$33,0),MATCH('Rebundled Rates'!B12,Rates!$2:$2,0))=FALSE,\"\",G12-INDEX(Rates!$A$36:$J$65,MATCH('Rebundled Rates'!$B$2,Rates!$A$2:$A$33,0),MATCH('Rebundled Rates'!B12,Rates!$2:$2,0)))","v":0.11022000000000001},{"$f":"IF(C12=\"\",\"\",VLOOKUP(VLOOKUP($B$2,Rates!$A$68:$S$100,19,0),'PCIA  FF'!$A:$P,MATCH(MAX('PCIA  FF'!$1:$1),'PCIA  FF'!$1:$1,0),0)+VLOOKUP(VLOOKUP($B$2,Rates!$A$68:$S$100,19,0),'PCIA  FF'!$14:$24,MATCH(MAX('PCIA  FF'!$1:$1),'PCIA  FF'!$1:$1,0),0))","v":2.528E-2},0.19960000000000003,{"$f":"IF(INDEX(Rates!$A$2:$J$33,MATCH('Rebundled Rates'!$B$2,Rates!$A$2:$A$33,0),MATCH('Rebundled Rates'!B12,Rates!$2:$2,0))=FALSE,\"\",INDEX(Rates!$A$2:$J$33,MATCH('Rebundled Rates'!$B$2,Rates!$A$2:$A$33,0),MATCH('Rebundled Rates'!B12,Rates!$2:$2,0)))","v":0.20530000000000001},-2.7764247442766621E-2]
["Demand",{"$f":"Rates!K2","v":"Summer Peak"},{"$f":"IF(VLOOKUP($B$2,Rates!$A$69:$S$98,10+MATCH('Rebundled Rates'!B13,Rates!$K$69:$S$69,0),0)=FALSE,\"\",VLOOKUP($B$2,Rates!$A$69:$S$98,10+MATCH('Rebundled Rates'!B13,Rates!$K$69:$S$69,0),0))","v":""},{"$f":"IFERROR(G13-VLOOKUP($B$2,Rates!$A$36:$V$67,10+MATCH('Rebundled Rates'!B13,Rates!$K$2:$V$2,0),0),\"\")","v":""},null,"",{"$f":"IF(VLOOKUP($B$2,Rates!$A$2:$V$33,10+MATCH('Rebundled Rates'!B13,Rates!$K$2:$V$2,0),0)=FALSE,\"\",VLOOKUP($B$2,Rates!$A$2:$V$33,10+MATCH('Rebundled Rates'!B13,Rates!$K$2:$V$2,0),0))","v":""},""]
["Demand",{"$f":"Rates!L2","v":"Summer Partial Peak"},{"$f":"IF(VLOOKUP($B$2,Rates!$A$69:$S$98,10+MATCH('Rebundled Rates'!B14,Rates!$K$69:$S$69,0),0)=FALSE,\"\",VLOOKUP($B$2,Rates!$A$69:$S$98,10+MATCH('Rebundled Rates'!B14,Rates!$K$69:$S$69,0),0))","v":""},{"$f":"IFERROR(G14-VLOOKUP($B$2,Rates!$A$36:$V$67,10+MATCH('Rebundled Rates'!B14,Rates!$K$2:$V$2,0),0),\"\")","v":""},null,"",{"$f":"IF(VLOOKUP($B$2,Rates!$A$2:$V$33,10+MATCH('Rebundled Rates'!B14,Rates!$K$2:$V$2,0),0)=FALSE,\"\",VLOOKUP($B$2,Rates!$A$2:$V$33,10+MATCH('Rebundled Rates'!B14,Rates!$K$2:$V$2,0),0))","v":""},""]
["Demand",{"$f":"Rates!M2","v":"Summer Maximum"},{"$f":"IF(VLOOKUP($B$2,Rates!$A$69:$S$98,10+MATCH('Rebundled Rates'!B15,Rates!$K$69:$S$69,0),0)=FALSE,\"\",VLOOKUP($B$2,Rates!$A$69:$S$98,10+MATCH('Rebundled Rates'!B15,Rates!$K$69:$S$69,0),0))","v":""},{"$f":"IFERROR(G15-VLOOKUP($B$2,Rates!$A$36:$V$67,10+MATCH('Rebundled Rates'!B15,Rates!$K$2:$V$2,0),0),\"\")","v":""},null,"",{"$f":"IF(VLOOKUP($B$2,Rates!$A$2:$V$33,10+MATCH('Rebundled Rates'!B15,Rates!$K$2:$V$2,0),0)=FALSE,\"\",VLOOKUP($B$2,Rates!$A$2:$V$33,10+MATCH('Rebundled Rates'!B15,Rates!$K$2:$V$2,0),0))","v":""},""]
["Demand",{"$f":"Rates!N2","v":"Winter Off Peak"},{"$f":"IF(VLOOKUP($B$2,Rates!$A$69:$S$98,10+MATCH('Rebundled Rates'!B16,Rates!$K$69:$S$69,0),0)=FALSE,\"\",VLOOKUP($B$2,Rates!$A$69:$S$98,10+MATCH('Rebundled Rates'!B16,Rates!$K$69:$S$69,0),0))","v":""},{"$f":"IFERROR(G16-VLOOKUP($B$2,Rates!$A$36:$V$67,10+MATCH('Rebundled Rates'!B16,Rates!$K$2:$V$2,0),0),\"\")","v":""},null,"",{"$f":"IF(VLOOKUP($B$2,Rates!$A$2:$V$33,10+MATCH('Rebundled Rates'!B16,Rates!$K$2:$V$2,0),0)=FALSE,\"\",VLOOKUP($B$2,Rates!$A$2:$V$33,10+MATCH('Rebundled Rates'!B16,Rates!$K$2:$V$2,0),0))","v":""}]
["Demand",{"$f":"Rates!O2","v":"Winter Partial"},{"$f":"IF(VLOOKUP($B$2,Rates!$A$69:$S$98,10+MATCH('Rebundled Rates'!B17,Rates!$K$69:$S$69,0),0)=FALSE,\"\",VLOOKUP($B$2,Rates!$A$69:$S$98,10+MATCH('Rebundled Rates'!B17,Rates!$K$69:$S$69,0),0))","v":""},{"$f":"IFERROR(G17-VLOOKUP($B$2,Rates!$A$36:$V$67,10+MATCH('Rebundled Rates'!B17,Rates!$K$2:$V$2,0),0),\"\")","v":""},null,"",{"$f":"IF(VLOOKUP($B$2,Rates!$A$2:$V$33,10+MATCH('Rebundled Rates'!B17,Rates!$K$2:$V$2,0),0)=FALSE,\"\",VLOOKUP($B$2,Rates!$A$2:$V$33,10+MATCH('Rebundled Rates'!B17,Rates!$K$2:$V$2,0),0))","v":""},""]
["Demand",{"$f":"Rates!P2","v":"Winter Maximum"},{"$f":"IF(VLOOKUP($B$2,Rates!$A$69:$S$98,10+MATCH('Rebundled Rates'!B18,Rates!$K$69:$S$69,0),0)=FALSE,\"\",VLOOKUP($B$2,Rates!$A$69:$S$98,10+MATCH('Rebundled Rates'!B18,Rates!$K$69:$S$69,0),0))","v":""},{"$f":"IFERROR(G18-VLOOKUP($B$2,Rates!$A$36:$V$67,10+MATCH('Rebundled Rates'!B18,Rates!$K$2:$V$2,0),0),\"\")","v":""},null,{"$f":"IF(SUM(C18:E18)=0,\"\",SUM(C18:E18))","v":""},{"$f":"IF(VLOOKUP($B$2,Rates!$A$2:$V$33,10+MATCH('Rebundled Rates'!B18,Rates!$K$2:$V$2,0),0)=FALSE,\"\",VLOOKUP($B$2,Rates!$A$2:$V$33,10+MATCH('Rebundled Rates'!B18,Rates!$K$2:$V$2,0),0))","v":""},{"$f":"IFERROR((F18/G18)-1,\"\")","v":""}]
["Ag. HP Load",{"$f":"Rates!Q2","v":"Conn. Load Sum."},{"$f":"IF(VLOOKUP($B$2,Rates!$A$69:$S$98,10+MATCH('Rebundled Rates'!B19,Rates!$K$69:$S$69,0),0)=FALSE,\"\",VLOOKUP($B$2,Rates!$A$69:$S$98,10+MATCH('Rebundled Rates'!B19,Rates!$K$69:$S$69,0),0))","v":""},{"$f":"IFERROR(G19-VLOOKUP($B$2,Rates!$A$36:$V$67,10+MATCH('Rebundled Rates'!B19,Rates!$K$2:$V$2,0),0),\"\")","v":""},null,{"$f":"IF(SUM(C19:E19)=0,\"\",SUM(C19:E19))","v":""},{"$f":"IF(VLOOKUP($B$2,Rates!$A$2:$V$33,10+MATCH('Rebundled Rates'!B19,Rates!$K$2:$V$2,0),0)=FALSE,\"\",VLOOKUP($B$2,Rates!$A$2:$V$33,10+MATCH('Rebundled Rates'!B19,Rates!$K$2:$V$2,0),0))","v":""},""]
["Ag. HP Load",{"$f":"Rates!R2","v":"Conn. Load Win."},{"$f":"IF(VLOOKUP($B$2,Rates!$A$69:$S$98,10+MATCH('Rebundled Rates'!B20,Rates!$K$69:$S$69,0),0)=FALSE,\"\",VLOOKUP($B$2,Rates!$A$69:$S$98,10+MATCH('Rebundled Rates'!B20,Rates!$K$69:$S$69,0),0))","v":""},{"$f":"IFERROR(G20-VLOOKUP($B$2,Rates!$A$36:$V$67,10+MATCH('Rebundled Rates'!B20,Rates!$K$2:$V$2,0),0),\"\")","v":""},null,"",{"$f":"IF(VLOOKUP($B$2,Rates!$A$2:$V$33,10+MATCH('Rebundled Rates'!B20,Rates!$K$2:$V$2,0),0)=FALSE,\"\",VLOOKUP($B$2,Rates!$A$2:$V$33,10+MATCH('Rebundled Rates'!B20,Rates!$K$2:$V$2,0),0))","v":""},""]

{"sheet":"Changelog","index":6,"n_rows":15,"n_cols":2,"rows_kept":15,"cut":false,"hidden":true,"merged":[]}
["2016-11-15","Added Changelog"]
[null,"Added lbs or metric tons for CO2 switch"]
[null,"Changed CO2e description to CO2 (due to recently discovered information that PG&E emissions only includes CO2 and omits other equivalent gasses which would increase their emissions factor)"]
["2017-01-03","Updated for PG&E AET"]
[null,"Fixed AG-1 A/B maximum demand defect"]
[null,"Fixed AG-4 C demand component defect"]
["2017-03-01","Updated PCIA methodology"]
[null,"Addressed PG&E Solar Choice Calculation issues"]
[null,"Updated PG&E Solar Choice Rates"]
[null,"Updated rates to PG&E 3/1 rate change"]
[null,"Updated description of PCIA Vintages"]
[null,"Added MCE 4/1 Rates"]
[]
["2017-06-07","split Billing days into billing days Summer and Billing Days Winter"]
[null,"Changed Demand charges to be responsive to # of billing days in the month"]